BEGIN:VCALENDAR
VERSION:2.0
PRODID:-//White Bluff-Rye Hill Volunteer Fire Department - ECPv6.15.17.1//NONSGML v1.0//EN
CALSCALE:GREGORIAN
METHOD:PUBLISH
X-WR-CALNAME:White Bluff-Rye Hill Volunteer Fire Department
X-ORIGINAL-URL:https://www.whitebluffryehillfire.org
X-WR-CALDESC:Events for White Bluff-Rye Hill Volunteer Fire Department
REFRESH-INTERVAL;VALUE=DURATION:PT1H
X-Robots-Tag:noindex
X-PUBLISHED-TTL:PT1H
BEGIN:VTIMEZONE
TZID:America/Chicago
BEGIN:DAYLIGHT
TZOFFSETFROM:-0600
TZOFFSETTO:-0500
TZNAME:CDT
DTSTART:20220313T080000
END:DAYLIGHT
BEGIN:STANDARD
TZOFFSETFROM:-0500
TZOFFSETTO:-0600
TZNAME:CST
DTSTART:20221106T070000
END:STANDARD
BEGIN:DAYLIGHT
TZOFFSETFROM:-0600
TZOFFSETTO:-0500
TZNAME:CDT
DTSTART:20230312T080000
END:DAYLIGHT
BEGIN:STANDARD
TZOFFSETFROM:-0500
TZOFFSETTO:-0600
TZNAME:CST
DTSTART:20231105T070000
END:STANDARD
BEGIN:DAYLIGHT
TZOFFSETFROM:-0600
TZOFFSETTO:-0500
TZNAME:CDT
DTSTART:20240310T080000
END:DAYLIGHT
BEGIN:STANDARD
TZOFFSETFROM:-0500
TZOFFSETTO:-0600
TZNAME:CST
DTSTART:20241103T070000
END:STANDARD
END:VTIMEZONE
BEGIN:VTIMEZONE
TZID:UTC
BEGIN:STANDARD
TZOFFSETFROM:+0000
TZOFFSETTO:+0000
TZNAME:UTC
DTSTART:20220101T000000
END:STANDARD
END:VTIMEZONE
BEGIN:VEVENT
DTSTART;TZID=America/Chicago:20231202T100000
DTEND;TZID=America/Chicago:20231202T120000
DTSTAMP:20260420T112234
CREATED:20231128T004519Z
LAST-MODIFIED:20231128T005102Z
UID:2832-1701511200-1701518400@www.whitebluffryehillfire.org
SUMMARY:Hartford Christmas Parade
DESCRIPTION:EVENT TIME: 10:00 AM
URL:https://www.whitebluffryehillfire.org/event/hartford-christmas-parade/
LOCATION:Hartford\, Arkansas\, Hartford\, AR\, United States
END:VEVENT
BEGIN:VEVENT
DTSTART;TZID=America/Chicago:20231202T180000
DTEND;TZID=America/Chicago:20231202T200000
DTSTAMP:20260420T112234
CREATED:20231128T004249Z
LAST-MODIFIED:20231128T005140Z
UID:2830-1701540000-1701547200@www.whitebluffryehillfire.org
SUMMARY:Hackett Christmas Parade
DESCRIPTION:EVENT TIME: 6:00 PM \nFIRE TRUCKS LINE UP AT 5:00 PM
URL:https://www.whitebluffryehillfire.org/event/hackett-christmas-parade-2/
LOCATION:Hackett\, Arkansas
END:VEVENT
BEGIN:VEVENT
DTSTART;TZID=America/Chicago:20231204T190000
DTEND;TZID=America/Chicago:20231204T210000
DTSTAMP:20260420T112234
CREATED:20231128T004811Z
LAST-MODIFIED:20231128T004811Z
UID:2835-1701716400-1701723600@www.whitebluffryehillfire.org
SUMMARY:Greenwood Christmas Parade
DESCRIPTION:EVENT TIME: 7:00 PM \nTRUCKS LINE UP AT 5:30 PM
URL:https://www.whitebluffryehillfire.org/event/greenwood-christmas-parade-2/
END:VEVENT
BEGIN:VEVENT
DTSTART;TZID=UTC:20231207T173000
DTEND;TZID=UTC:20231207T190000
DTSTAMP:20260420T112234
CREATED:20230918T210728Z
LAST-MODIFIED:20230918T210728Z
UID:2784-1701970200-1701975600@www.whitebluffryehillfire.org
SUMMARY:Santa Run Bagging Night
DESCRIPTION:
URL:https://www.whitebluffryehillfire.org/event/santa-run-bagging-night/
LOCATION:WBRH VFD Station B\, 5325 Spring Mountain Road\, Fort Smith\, AR\, 72916\, United States
ORGANIZER;CN="White Bluff-Rye Hill Volunteer Fire Department":MAILTO:contact@whitebluffryehillfire.org
END:VEVENT
BEGIN:VEVENT
DTSTART;TZID=America/Chicago:20231209T080000
DTEND;TZID=America/Chicago:20231209T170000
DTSTAMP:20260420T112234
CREATED:20231128T005012Z
LAST-MODIFIED:20231128T005021Z
UID:2837-1702108800-1702141200@www.whitebluffryehillfire.org
SUMMARY:Bonanza Christmas Parade
DESCRIPTION:EVENT TIME: 10:00 AM \nTRUCKS LINE UP AT 9:30 AM
URL:https://www.whitebluffryehillfire.org/event/bonanza-christmas-parade-2/
END:VEVENT
BEGIN:VEVENT
DTSTART;VALUE=DATE:20231210
DTEND;VALUE=DATE:20231211
DTSTAMP:20260420T112234
CREATED:20230918T211225Z
LAST-MODIFIED:20230918T211327Z
UID:2786-1702166400-1702252799@www.whitebluffryehillfire.org
SUMMARY:Santa Visit Day! – Santa Run 2023
DESCRIPTION:This year\, we are planning on putting together over 1\,000 “goody bags” to have SANTA hand out in the White Bluff\, Rye Hill\, Jenny Lind\, and Shadow Lake communities that comprise our Fire District. \nWe are a 100% volunteer non-profit fire department that is seeking your help in making this event possible. \nDuring our annual SANTA VISIT\, the Firefighters\, Emergency Medical Personnel\, Ladies Auxiliary\, and Junior Firefighters from the White Bluff – Rye Hill Volunteer Fire Department take SANTA CLAUS aboard the fire trucks throughout the area\, handing out goody bags to kids and adults alike\, in order to promote the Christmas spirit\, fire safety\, and prevention and to display our fire trucks and firefighting equipment. This event has grown every year for the past 30+ years and is something the people in the area really look forward to each Christmas. It is funded by donations from area businesses and individuals\, and the flyer we send out in all of the “goody bags” has a list of the people and businesses who have contributed to the annual event. \nIf you or your business would like to donate and help out with our annual Santa Claus Visit (which will be held on December 10th\, 2023)\, please feel free to contact any of our volunteers or email us at whitebluffryehillfire@gmail.com and we will get back to you! Or call President Dale Seiter at 479-430-0252 Or Chief Mark Condren at 479-226-6122. \nThanks! White Bluff – Rye Hill V.F.D.
URL:https://www.whitebluffryehillfire.org/event/santa-visit-day-santa-run-2023/
LOCATION:White Bluff-Rye Hill\, Jenny Lind\, & Shadow Lake Community
ATTACH;FMTTYPE=image/png:https://www.whitebluffryehillfire.org/wp-content/uploads/2023/09/SantaRun2023Info.png
ORGANIZER;CN="White Bluff-Rye Hill Volunteer Fire Department":MAILTO:contact@whitebluffryehillfire.org
END:VEVENT
END:VCALENDAR