BEGIN:VCALENDAR
VERSION:2.0
PRODID:-//White Bluff-Rye Hill Volunteer Fire Department - ECPv6.15.17.1//NONSGML v1.0//EN
CALSCALE:GREGORIAN
METHOD:PUBLISH
X-ORIGINAL-URL:https://www.whitebluffryehillfire.org
X-WR-CALDESC:Events for White Bluff-Rye Hill Volunteer Fire Department
REFRESH-INTERVAL;VALUE=DURATION:PT1H
X-Robots-Tag:noindex
X-PUBLISHED-TTL:PT1H
BEGIN:VTIMEZONE
TZID:America/Chicago
BEGIN:DAYLIGHT
TZOFFSETFROM:-0600
TZOFFSETTO:-0500
TZNAME:CDT
DTSTART:20220313T080000
END:DAYLIGHT
BEGIN:STANDARD
TZOFFSETFROM:-0500
TZOFFSETTO:-0600
TZNAME:CST
DTSTART:20221106T070000
END:STANDARD
BEGIN:DAYLIGHT
TZOFFSETFROM:-0600
TZOFFSETTO:-0500
TZNAME:CDT
DTSTART:20230312T080000
END:DAYLIGHT
BEGIN:STANDARD
TZOFFSETFROM:-0500
TZOFFSETTO:-0600
TZNAME:CST
DTSTART:20231105T070000
END:STANDARD
BEGIN:DAYLIGHT
TZOFFSETFROM:-0600
TZOFFSETTO:-0500
TZNAME:CDT
DTSTART:20240310T080000
END:DAYLIGHT
BEGIN:STANDARD
TZOFFSETFROM:-0500
TZOFFSETTO:-0600
TZNAME:CST
DTSTART:20241103T070000
END:STANDARD
END:VTIMEZONE
BEGIN:VTIMEZONE
TZID:UTC
BEGIN:STANDARD
TZOFFSETFROM:+0000
TZOFFSETTO:+0000
TZNAME:UTC
DTSTART:20220101T000000
END:STANDARD
END:VTIMEZONE
BEGIN:VEVENT
DTSTART;TZID=America/Chicago:20231001T120000
DTEND;TZID=America/Chicago:20231001T180000
DTSTAMP:20260420T144405
CREATED:20230918T205816Z
LAST-MODIFIED:20230918T205816Z
UID:2772-1696161600-1696183200@www.whitebluffryehillfire.org
SUMMARY:AFA Certified Class - Hose Training (Location: Lavaca)
DESCRIPTION:Sunday – October 1st – 12:00 pm start time – Lavaca \nWednesday – October 11th – 6:00 pm – Lavaca \n  \nThis is a great opportunity to get some Arkansas Fire Academy required hours and train with some firefighters from other departments. \nYou need to sign up by clicking on the following link: \nhttps://sautech.formstack.com/forms/afta_application \nOr go to the Camden AR SAU website and sign up for hose training on the 1st of October and the 11th of October at the Lavaca VFD. These classes are the new addition classes. Even if you have had the class\, go retrain to learn something new\, and meet some fellow firefighter.
URL:https://www.whitebluffryehillfire.org/event/afa-certified-class-hose-training-location-lavaca/
LOCATION:Lavaca VFD
END:VEVENT
BEGIN:VEVENT
DTSTART;TZID=UTC:20231009T180000
DTEND;TZID=UTC:20231009T200000
DTSTAMP:20260420T144405
CREATED:20230918T210359Z
LAST-MODIFIED:20230918T210359Z
UID:2780-1696874400-1696881600@www.whitebluffryehillfire.org
SUMMARY:WBRH Fire Member Meeting
DESCRIPTION:
URL:https://www.whitebluffryehillfire.org/event/wbrh-fire-member-meeting-3/
LOCATION:WBRH VFD Station B\, 5325 Spring Mountain Road\, Fort Smith\, AR\, 72916\, United States
ORGANIZER;CN="White Bluff-Rye Hill Volunteer Fire Department":MAILTO:contact@whitebluffryehillfire.org
END:VEVENT
BEGIN:VEVENT
DTSTART;TZID=UTC:20231011T180000
DTEND;TZID=UTC:20231011T200000
DTSTAMP:20260420T144405
CREATED:20230918T205940Z
LAST-MODIFIED:20230918T205940Z
UID:2777-1697047200-1697054400@www.whitebluffryehillfire.org
SUMMARY:AFA Certified Class – Hose Training (Location: Lavaca)
DESCRIPTION:Sunday – October 1st – 12:00 pm start time – Lavaca \nWednesday – October 11th – 6:00 pm – Lavaca \n  \nThis is a great opportunity to get some Arkansas Fire Academy required hours and train with some firefighters from other departments. \nYou need to sign up by clicking on the following link: \nhttps://sautech.formstack.com/forms/afta_application \nOr go to the Camden AR SAU website and sign up for hose training on the 1st of October and the 11th of October at the Lavaca VFD. These classes are the new addition classes. Even if you have had the class\, go retrain to learn something new\, and meet some fellow firefighter.
URL:https://www.whitebluffryehillfire.org/event/afa-certified-class-hose-training-location-lavaca-2/
LOCATION:Lavaca VFD
END:VEVENT
BEGIN:VEVENT
DTSTART;TZID=UTC:20231014T070000
DTEND;TZID=UTC:20231014T140000
DTSTAMP:20260420T144405
CREATED:20230918T210625Z
LAST-MODIFIED:20230918T210625Z
UID:2782-1697266800-1697292000@www.whitebluffryehillfire.org
SUMMARY:WBRH VFD Annual Hose Testing
DESCRIPTION:
URL:https://www.whitebluffryehillfire.org/event/wbrh-vfd-annual-hose-testing/
ORGANIZER;CN="White Bluff-Rye Hill Volunteer Fire Department":MAILTO:contact@whitebluffryehillfire.org
END:VEVENT
END:VCALENDAR