BEGIN:VCALENDAR
VERSION:2.0
PRODID:-//White Bluff-Rye Hill Volunteer Fire Department - ECPv6.15.17.1//NONSGML v1.0//EN
CALSCALE:GREGORIAN
METHOD:PUBLISH
X-WR-CALNAME:White Bluff-Rye Hill Volunteer Fire Department
X-ORIGINAL-URL:https://www.whitebluffryehillfire.org
X-WR-CALDESC:Events for White Bluff-Rye Hill Volunteer Fire Department
REFRESH-INTERVAL;VALUE=DURATION:PT1H
X-Robots-Tag:noindex
X-PUBLISHED-TTL:PT1H
BEGIN:VTIMEZONE
TZID:UTC
BEGIN:STANDARD
TZOFFSETFROM:+0000
TZOFFSETTO:+0000
TZNAME:UTC
DTSTART:20210101T000000
END:STANDARD
END:VTIMEZONE
BEGIN:VEVENT
DTSTART;TZID=UTC:20221203T080000
DTEND;TZID=UTC:20221203T120000
DTSTAMP:20260420T235455
CREATED:20221126T224047Z
LAST-MODIFIED:20221126T224047Z
UID:2682-1670054400-1670068800@www.whitebluffryehillfire.org
SUMMARY:Bonanza Christmas Parade
DESCRIPTION:Our department is helping Bonanza run their parade this year as their Chief and Assistant Chief are working and cannot attend. Tom Price and Mark Condren are organizing this to help Bonanza out.
URL:https://www.whitebluffryehillfire.org/event/bonanza-christmas-parade/
LOCATION:Bonanza\, Arkansas
ORGANIZER;CN="White Bluff-Rye Hill Volunteer Fire Department":MAILTO:contact@whitebluffryehillfire.org
END:VEVENT
BEGIN:VEVENT
DTSTART;TZID=UTC:20221201T173000
DTEND;TZID=UTC:20221201T200000
DTSTAMP:20260420T235455
CREATED:20221021T043413Z
LAST-MODIFIED:20221126T223513Z
UID:2109-1669915800-1669924800@www.whitebluffryehillfire.org
SUMMARY:Bagging Night for Santa Visit
DESCRIPTION:Help us put together 1\,000 bags for this year’s Santa Run event. \nPizza will be served when we finish bagging items.
URL:https://www.whitebluffryehillfire.org/event/bagging-night-for-santa-visit/
LOCATION:WBRH VFD Station B\, 5325 Spring Mountain Road\, Fort Smith\, AR\, 72916\, United States
ORGANIZER;CN="White Bluff-Rye Hill Volunteer Fire Department":MAILTO:contact@whitebluffryehillfire.org
END:VEVENT
BEGIN:VEVENT
DTSTART;VALUE=DATE:20221129
DTEND;VALUE=DATE:20221130
DTSTAMP:20260420T235455
CREATED:20221126T223800Z
LAST-MODIFIED:20221126T224204Z
UID:2680-1669680000-1669766399@www.whitebluffryehillfire.org
SUMMARY:"Giving Tuesday"
DESCRIPTION:The White Bluff-Rye Hill Volunteer Fire Department has some exciting news to share! We are now able to accept DONATIONS via our WEBSITE!\n\n\nThis new feature to accept donations online to fund our 100% volunteer fire department (via our website through Zeffy donation platform) comes just in time for “Giving Tuesday” – November 29.\n\n\nwww.WhiteBluffRyeHillFire.org/Donate\n\n\nCheck out our newly designed website and please consider donating today!\n\n\n———————\n\n\nYour donations make a difference\, and we are VERY THANKFUL to those who have supported us in the past and continue to support us now and in the future! It is these extra donations that allow us to continue to make drastic improvements to the fire department and the services that we can offer. The White Bluff – Rye Hill\, Shadow Lake\, and Jenny Lind areas continue to be rapidly growing communities\, and it is our goal to keep pace with that growth through the emergency services we provide to our friends and neighbors in our coverage area and beyond. Our department has transformed over the years from providing only Firefighting Services to providing Emergency Medical Services\, Auto Extrication\, Search and Rescue Operations\, and Community Fire Safety Programs. We cannot do this without DEDICATED VOLUNTEERS and DEDICATED COMMUNITY MEMBERS.
URL:https://www.whitebluffryehillfire.org/event/giving-tuesday/
LOCATION:AR
ORGANIZER;CN="White Bluff-Rye Hill Volunteer Fire Department":MAILTO:contact@whitebluffryehillfire.org
END:VEVENT
BEGIN:VEVENT
DTSTART;TZID=UTC:20221114T180000
DTEND;TZID=UTC:20221114T200000
DTSTAMP:20260420T235455
CREATED:20221114T040545Z
LAST-MODIFIED:20221114T040545Z
UID:2550-1668448800-1668456000@www.whitebluffryehillfire.org
SUMMARY:WBRH VFD - Business Meeting & Annual Election of Board Members
DESCRIPTION:This meeting is our Annual Election of Board Members and our nomination and selection for WBRH VFD Member of the Year. Please make every effort to attend this meeting!
URL:https://www.whitebluffryehillfire.org/event/wbrh-vfd-business-meeting-annual-election-of-board-members/
LOCATION:WBRH VFD Station B\, 5325 Spring Mountain Road\, Fort Smith\, AR\, 72916\, United States
ORGANIZER;CN="White Bluff-Rye Hill Volunteer Fire Department":MAILTO:contact@whitebluffryehillfire.org
END:VEVENT
BEGIN:VEVENT
DTSTART;TZID=UTC:20221027T183000
DTEND;TZID=UTC:20221027T210000
DTSTAMP:20260420T235455
CREATED:20221021T050240Z
LAST-MODIFIED:20221021T050304Z
UID:2118-1666895400-1666904400@www.whitebluffryehillfire.org
SUMMARY:IFTSA 7TH ED. CH. 7 Ropes & Knots Class
DESCRIPTION:Class Presenter(s): Chris Bunn and Gina Condren (WBRH VFD)
URL:https://www.whitebluffryehillfire.org/event/iftsa-7ed-ch-7-ropes-knots-class/
LOCATION:Sebastian County Training Center\, 203 South Coker Street\, Greenwood\, AR\, 72936\, United States
ORGANIZER;CN="White Bluff-Rye Hill Volunteer Fire Department":MAILTO:contact@whitebluffryehillfire.org
END:VEVENT
BEGIN:VEVENT
DTSTART;TZID=UTC:20221024T180000
DTEND;TZID=UTC:20221024T200000
DTSTAMP:20260420T235455
CREATED:20221021T045728Z
LAST-MODIFIED:20221021T045728Z
UID:2115-1666634400-1666641600@www.whitebluffryehillfire.org
SUMMARY:WBRH VFD - Training Night
DESCRIPTION:
URL:https://www.whitebluffryehillfire.org/event/wbrh-vfd-training-night/
LOCATION:WBRH VFD Station B\, 5325 Spring Mountain Road\, Fort Smith\, AR\, 72916\, United States
ORGANIZER;CN="White Bluff-Rye Hill Volunteer Fire Department":MAILTO:contact@whitebluffryehillfire.org
END:VEVENT
END:VCALENDAR